BEGIN:VCALENDAR
VERSION:2.0
PRODID:-//The Allies Band - ECPv6.10.2//NONSGML v1.0//EN
CALSCALE:GREGORIAN
METHOD:PUBLISH
X-ORIGINAL-URL:http://allies.band
X-WR-CALDESC:Events for The Allies Band
REFRESH-INTERVAL;VALUE=DURATION:PT1H
X-Robots-Tag:noindex
X-PUBLISHED-TTL:PT1H
BEGIN:VTIMEZONE
TZID:America/New_York
BEGIN:DAYLIGHT
TZOFFSETFROM:-0500
TZOFFSETTO:-0400
TZNAME:EDT
DTSTART:20250309T070000
END:DAYLIGHT
BEGIN:STANDARD
TZOFFSETFROM:-0400
TZOFFSETTO:-0500
TZNAME:EST
DTSTART:20251102T060000
END:STANDARD
END:VTIMEZONE
BEGIN:VEVENT
DTSTART;TZID=America/New_York:20250405T190000
DTEND;TZID=America/New_York:20250405T220000
DTSTAMP:20260425T075731
CREATED:20241203T230406Z
LAST-MODIFIED:20241203T230406Z
UID:507-1743879600-1743890400@allies.band
SUMMARY:Allies at Nemacolin Casino
DESCRIPTION:Play some slots or table games\, grab some great food and catch some awesome classic rock all in one location. Hope to see you there.
URL:http://allies.band/event/allies-at-nemacolin-casino/
END:VEVENT
END:VCALENDAR