BEGIN:VCALENDAR
VERSION:2.0
PRODID:-//The Allies Band - ECPv6.10.2//NONSGML v1.0//EN
CALSCALE:GREGORIAN
METHOD:PUBLISH
X-WR-CALNAME:The Allies Band
X-ORIGINAL-URL:http://allies.band
X-WR-CALDESC:Events for The Allies Band
REFRESH-INTERVAL;VALUE=DURATION:PT1H
X-Robots-Tag:noindex
X-PUBLISHED-TTL:PT1H
BEGIN:VTIMEZONE
TZID:America/New_York
BEGIN:DAYLIGHT
TZOFFSETFROM:-0500
TZOFFSETTO:-0400
TZNAME:EDT
DTSTART:20250309T070000
END:DAYLIGHT
BEGIN:STANDARD
TZOFFSETFROM:-0400
TZOFFSETTO:-0500
TZNAME:EST
DTSTART:20251102T060000
END:STANDARD
END:VTIMEZONE
BEGIN:VEVENT
DTSTART;TZID=America/New_York:20251017T200000
DTEND;TZID=America/New_York:20251017T230000
DTSTAMP:20260421T091306
CREATED:20241203T230747Z
LAST-MODIFIED:20251017T155043Z
UID:511-1760731200-1760742000@allies.band
SUMMARY:Allies at Nemacolin Casino
DESCRIPTION:
URL:http://allies.band/event/allies-at-nemacolin-casino-tentative-2/
END:VEVENT
END:VCALENDAR