BEGIN:VCALENDAR
VERSION:2.0
PRODID:-//The Allies Band - ECPv6.10.2//NONSGML v1.0//EN
CALSCALE:GREGORIAN
METHOD:PUBLISH
X-ORIGINAL-URL:http://allies.band
X-WR-CALDESC:Events for The Allies Band
REFRESH-INTERVAL;VALUE=DURATION:PT1H
X-Robots-Tag:noindex
X-PUBLISHED-TTL:PT1H
BEGIN:VTIMEZONE
TZID:America/New_York
BEGIN:DAYLIGHT
TZOFFSETFROM:-0500
TZOFFSETTO:-0400
TZNAME:EDT
DTSTART:20250309T070000
END:DAYLIGHT
BEGIN:STANDARD
TZOFFSETFROM:-0400
TZOFFSETTO:-0500
TZNAME:EST
DTSTART:20251102T060000
END:STANDARD
END:VTIMEZONE
BEGIN:VEVENT
DTSTART;TZID=America/New_York:20251024T190000
DTEND;TZID=America/New_York:20251024T220000
DTSTAMP:20260423T043614
CREATED:20250625T011425Z
LAST-MODIFIED:20251007T164146Z
UID:558-1761332400-1761343200@allies.band
SUMMARY:Allies at DiMarco's Bistro & Cantina
DESCRIPTION:First time here for the Allies. DiMarco’s will be one of the stops along the ” Haunted Uniontown” guided tour and we are excited and a little frightened to be a part of it all.
URL:http://allies.band/event/allies-at-oglebay-resort/
END:VEVENT
END:VCALENDAR