BEGIN:VCALENDAR
VERSION:2.0
PRODID:-//The Allies Band - ECPv6.10.2//NONSGML v1.0//EN
CALSCALE:GREGORIAN
METHOD:PUBLISH
X-ORIGINAL-URL:http://allies.band
X-WR-CALDESC:Events for The Allies Band
REFRESH-INTERVAL;VALUE=DURATION:PT1H
X-Robots-Tag:noindex
X-PUBLISHED-TTL:PT1H
BEGIN:VTIMEZONE
TZID:America/New_York
BEGIN:DAYLIGHT
TZOFFSETFROM:-0500
TZOFFSETTO:-0400
TZNAME:EDT
DTSTART:20240310T070000
END:DAYLIGHT
BEGIN:STANDARD
TZOFFSETFROM:-0400
TZOFFSETTO:-0500
TZNAME:EST
DTSTART:20241103T060000
END:STANDARD
END:VTIMEZONE
BEGIN:VEVENT
DTSTART;TZID=America/New_York:20240901T200000
DTEND;TZID=America/New_York:20240901T230000
DTSTAMP:20260425T174951
CREATED:20240105T153218Z
LAST-MODIFIED:20240105T153218Z
UID:403-1725220800-1725231600@allies.band
SUMMARY:Allies at Big Bear Lake
DESCRIPTION:Labor Day Party in the mountains. Members and guests.
URL:http://allies.band/event/allies-at-big-bear-lake/
LOCATION:Big Bear Lake Campground\, Bruceton Mills\, WV
END:VEVENT
BEGIN:VEVENT
DTSTART;TZID=America/New_York:20240902T170000
DTEND;TZID=America/New_York:20240902T180000
DTSTAMP:20260425T174951
CREATED:20240219T150816Z
LAST-MODIFIED:20240219T150816Z
UID:425-1725296400-1725300000@allies.band
SUMMARY:Allies at Rowlesburg WV Community Days
DESCRIPTION:Rowlesburg WV community day celebration and Ox roast.
URL:http://allies.band/event/allies-at-rowlesburg-wv-community-days/
END:VEVENT
BEGIN:VEVENT
DTSTART;TZID=America/New_York:20240913T190000
DTEND;TZID=America/New_York:20240913T220000
DTSTAMP:20260425T174951
CREATED:20240806T141150Z
LAST-MODIFIED:20240806T141150Z
UID:474-1726254000-1726264800@allies.band
SUMMARY:Allies at Mom Maruca's
DESCRIPTION:Mom’s is the place to be Fridays all summer long
URL:http://allies.band/event/allies-at-mom-marucas-3/
LOCATION:Mom Maruca’s\, Barton Mill Road\, Uniontown\, PA\, 15401
END:VEVENT
BEGIN:VEVENT
DTSTART;TZID=America/New_York:20240915T180000
DTEND;TZID=America/New_York:20240915T200000
DTSTAMP:20260425T174951
CREATED:20240229T174855Z
LAST-MODIFIED:20240229T174855Z
UID:435-1726423200-1726430400@allies.band
SUMMARY:Allies at Cedar Creek Park
DESCRIPTION:At the Amphitheater
URL:http://allies.band/event/allies-at-cedar-creek-park/
END:VEVENT
END:VCALENDAR