BEGIN:VCALENDAR
VERSION:2.0
PRODID:-//The Allies Band - ECPv6.10.2//NONSGML v1.0//EN
CALSCALE:GREGORIAN
METHOD:PUBLISH
X-ORIGINAL-URL:http://allies.band
X-WR-CALDESC:Events for The Allies Band
REFRESH-INTERVAL;VALUE=DURATION:PT1H
X-Robots-Tag:noindex
X-PUBLISHED-TTL:PT1H
BEGIN:VTIMEZONE
TZID:America/New_York
BEGIN:DAYLIGHT
TZOFFSETFROM:-0500
TZOFFSETTO:-0400
TZNAME:EDT
DTSTART:20240310T070000
END:DAYLIGHT
BEGIN:STANDARD
TZOFFSETFROM:-0400
TZOFFSETTO:-0500
TZNAME:EST
DTSTART:20241103T060000
END:STANDARD
END:VTIMEZONE
BEGIN:VEVENT
DTSTART;TZID=America/New_York:20241213T190000
DTEND;TZID=America/New_York:20241213T220000
DTSTAMP:20260425T131613
CREATED:20240608T124543Z
LAST-MODIFIED:20240608T124543Z
UID:469-1734116400-1734127200@allies.band
SUMMARY:Allies @ The Casino at Nemacolin
DESCRIPTION:Farmington PA
URL:http://allies.band/event/allies-the-casino-at-nemacolin/
END:VEVENT
BEGIN:VEVENT
DTSTART;TZID=America/New_York:20241214T200000
DTEND;TZID=America/New_York:20241214T230000
DTSTAMP:20260425T131613
CREATED:20241105T153852Z
LAST-MODIFIED:20241105T153852Z
UID:494-1734206400-1734217200@allies.band
SUMMARY:Allies at Jessop Boat Club
DESCRIPTION:Christmas Party. Members and guests
URL:http://allies.band/event/allies-at-jessop-boat-club-4/
END:VEVENT
BEGIN:VEVENT
DTSTART;TZID=America/New_York:20241221T200000
DTEND;TZID=America/New_York:20241222T000000
DTSTAMP:20260425T131613
CREATED:20231120T201100Z
LAST-MODIFIED:20231120T201100Z
UID:387-1734811200-1734825600@allies.band
SUMMARY:Allies @ Amvets\, Hopwood
DESCRIPTION:Get your pre-Christmas party on.
URL:http://allies.band/event/allies-amvets-hopwood-2/
END:VEVENT
END:VCALENDAR