BEGIN:VCALENDAR
VERSION:2.0
PRODID:-//The Allies Band - ECPv6.10.2//NONSGML v1.0//EN
CALSCALE:GREGORIAN
METHOD:PUBLISH
X-WR-CALNAME:The Allies Band
X-ORIGINAL-URL:http://allies.band
X-WR-CALDESC:Events for The Allies Band
REFRESH-INTERVAL;VALUE=DURATION:PT1H
X-Robots-Tag:noindex
X-PUBLISHED-TTL:PT1H
BEGIN:VTIMEZONE
TZID:America/New_York
BEGIN:DAYLIGHT
TZOFFSETFROM:-0500
TZOFFSETTO:-0400
TZNAME:EDT
DTSTART:20250309T070000
END:DAYLIGHT
BEGIN:STANDARD
TZOFFSETFROM:-0400
TZOFFSETTO:-0500
TZNAME:EST
DTSTART:20251102T060000
END:STANDARD
END:VTIMEZONE
BEGIN:VEVENT
DTSTART;TZID=America/New_York:20250510T200000
DTEND;TZID=America/New_York:20250511T000000
DTSTAMP:20260423T075638
CREATED:20241122T190538Z
LAST-MODIFIED:20241122T190538Z
UID:500-1746907200-1746921600@allies.band
SUMMARY:Allies at Amvets
DESCRIPTION:Amvets Hopwood PA
URL:http://allies.band/event/allies-at-amvets/
END:VEVENT
BEGIN:VEVENT
DTSTART;TZID=America/New_York:20250523T190000
DTEND;TZID=America/New_York:20250523T220000
DTSTAMP:20260423T075638
CREATED:20241122T190813Z
LAST-MODIFIED:20241122T190813Z
UID:502-1748026800-1748037600@allies.band
SUMMARY:Allies at Rowlesberg WV
DESCRIPTION:Dinner dance at the community center. Time TBD
URL:http://allies.band/event/allies-at-rowlesberg-wv/
END:VEVENT
BEGIN:VEVENT
DTSTART;TZID=America/New_York:20250524T200000
DTEND;TZID=America/New_York:20250524T235900
DTSTAMP:20260423T075638
CREATED:20250121T234501Z
LAST-MODIFIED:20250511T225312Z
UID:523-1748116800-1748131140@allies.band
SUMMARY:Allies at Jessop Boat Club...CANCELED
DESCRIPTION:It’s always a party on the Mon River. Check out the new Band Stage.
URL:http://allies.band/event/allies-at-jessop-boat-club-5/
END:VEVENT
END:VCALENDAR