BEGIN:VCALENDAR
VERSION:2.0
PRODID:-//The Allies Band - ECPv6.10.2//NONSGML v1.0//EN
CALSCALE:GREGORIAN
METHOD:PUBLISH
X-ORIGINAL-URL:http://allies.band
X-WR-CALDESC:Events for The Allies Band
REFRESH-INTERVAL;VALUE=DURATION:PT1H
X-Robots-Tag:noindex
X-PUBLISHED-TTL:PT1H
BEGIN:VTIMEZONE
TZID:America/New_York
BEGIN:DAYLIGHT
TZOFFSETFROM:-0500
TZOFFSETTO:-0400
TZNAME:EDT
DTSTART:20250309T070000
END:DAYLIGHT
BEGIN:STANDARD
TZOFFSETFROM:-0400
TZOFFSETTO:-0500
TZNAME:EST
DTSTART:20251102T060000
END:STANDARD
END:VTIMEZONE
BEGIN:VEVENT
DTSTART;TZID=America/New_York:20250607T120000
DTEND;TZID=America/New_York:20250607T150000
DTSTAMP:20260423T061428
CREATED:20241105T154242Z
LAST-MODIFIED:20241105T154242Z
UID:496-1749297600-1749308400@allies.band
SUMMARY:Allies at Touchstone Center for Crafts
DESCRIPTION:Art\, Crafts\, and Music all afternoon at this wonderful Fayette County treasure.
URL:http://allies.band/event/allies-at-touchstone-center-for-crafts-2/
LOCATION:Touchstone Center for Crafts\, PA
END:VEVENT
BEGIN:VEVENT
DTSTART;TZID=America/New_York:20250607T200000
DTEND;TZID=America/New_York:20250607T230000
DTSTAMP:20260423T061428
CREATED:20250604T180235Z
LAST-MODIFIED:20250604T180235Z
UID:550-1749326400-1749337200@allies.band
SUMMARY:Allies at Nemacolin Casino
DESCRIPTION:Last minute addition…
URL:http://allies.band/event/allies-at-nemacolin-casino-2/
END:VEVENT
BEGIN:VEVENT
DTSTART;TZID=America/New_York:20250608T160000
DTEND;TZID=America/New_York:20250608T180000
DTSTAMP:20260423T061428
CREATED:20250112T163859Z
LAST-MODIFIED:20250112T163859Z
UID:514-1749398400-1749405600@allies.band
SUMMARY:Allies at Cedar Creek Park
DESCRIPTION:Back once again to this gem in Westmoreland County. A beautiful natural amphitheater with a professional stage. We will be playing as a full quintet with the addition of Rod Franks.
URL:http://allies.band/event/allies-at-cedar-creek-park-2/
LOCATION:Cedar Creek Park
END:VEVENT
BEGIN:VEVENT
DTSTART;TZID=America/New_York:20250621T200000
DTEND;TZID=America/New_York:20250621T230000
DTSTAMP:20260423T061428
CREATED:20250318T104301Z
LAST-MODIFIED:20250609T105653Z
UID:535-1750536000-1750546800@allies.band
SUMMARY:Allies at Big Bear Lake Campground CANCELED
DESCRIPTION:Always a great time\,
URL:http://allies.band/event/allies-at-big-bear-lake-campground-2/
LOCATION:Big Bear Lake Campground\, Bruceton Mills\, WV
END:VEVENT
END:VCALENDAR