BEGIN:VCALENDAR
VERSION:2.0
PRODID:-//The Allies Band - ECPv6.10.2//NONSGML v1.0//EN
CALSCALE:GREGORIAN
METHOD:PUBLISH
X-WR-CALNAME:The Allies Band
X-ORIGINAL-URL:http://allies.band
X-WR-CALDESC:Events for The Allies Band
REFRESH-INTERVAL;VALUE=DURATION:PT1H
X-Robots-Tag:noindex
X-PUBLISHED-TTL:PT1H
BEGIN:VTIMEZONE
TZID:America/New_York
BEGIN:DAYLIGHT
TZOFFSETFROM:-0500
TZOFFSETTO:-0400
TZNAME:EDT
DTSTART:20250309T070000
END:DAYLIGHT
BEGIN:STANDARD
TZOFFSETFROM:-0400
TZOFFSETTO:-0500
TZNAME:EST
DTSTART:20251102T060000
END:STANDARD
END:VTIMEZONE
BEGIN:VEVENT
DTSTART;TZID=America/New_York:20250704T200000
DTEND;TZID=America/New_York:20250704T230000
DTSTAMP:20260423T043537
CREATED:20250208T030353Z
LAST-MODIFIED:20250530T223837Z
UID:527-1751659200-1751670000@allies.band
SUMMARY:Allies At The Casino at Nemacolin (Canceled)
DESCRIPTION:
URL:http://allies.band/event/allies-at-the-casino-at-nemacolin-3/
END:VEVENT
BEGIN:VEVENT
DTSTART;TZID=America/New_York:20250724T173000
DTEND;TZID=America/New_York:20250724T190000
DTSTAMP:20260423T043537
CREATED:20250604T185750Z
LAST-MODIFIED:20250604T185750Z
UID:552-1753378200-1753383600@allies.band
SUMMARY:Allies at Storey Square
DESCRIPTION:A fun evening for the whole family
URL:http://allies.band/event/allies-at-storey-square-4/
END:VEVENT
BEGIN:VEVENT
DTSTART;TZID=America/New_York:20250724T173000
DTEND;TZID=America/New_York:20250724T190000
DTSTAMP:20260423T043537
CREATED:20250724T185507Z
LAST-MODIFIED:20250530T223600Z
UID:540-1753378200-1753383600@allies.band
SUMMARY:Allies at Storey Square
DESCRIPTION:Note Change of date
URL:http://allies.band/event/allies-at-storey-square-3/
END:VEVENT
BEGIN:VEVENT
DTSTART;TZID=America/New_York:20250725T190000
DTEND;TZID=America/New_York:20250725T220000
DTSTAMP:20260423T043537
CREATED:20240409T183609Z
LAST-MODIFIED:20250604T190043Z
UID:452-1753470000-1753480800@allies.band
SUMMARY:Allies at Mom Maruca's
DESCRIPTION:One of Mom’s Friday music nights. UHS class of ’75 will be having an informal gathering prior to their 50th class reunion. We played for their 25th reunion and fifty years ago we (Breakdown)  played for their Jr/Sr dance (check the yearbook for proof).
URL:http://allies.band/event/allies-at-mom-marucas-2/
END:VEVENT
END:VCALENDAR