BEGIN:VCALENDAR
VERSION:2.0
PRODID:-//The Allies Band - ECPv6.10.2//NONSGML v1.0//EN
CALSCALE:GREGORIAN
METHOD:PUBLISH
X-WR-CALNAME:The Allies Band
X-ORIGINAL-URL:http://allies.band
X-WR-CALDESC:Events for The Allies Band
REFRESH-INTERVAL;VALUE=DURATION:PT1H
X-Robots-Tag:noindex
X-PUBLISHED-TTL:PT1H
BEGIN:VTIMEZONE
TZID:America/New_York
BEGIN:DAYLIGHT
TZOFFSETFROM:-0500
TZOFFSETTO:-0400
TZNAME:EDT
DTSTART:20250309T070000
END:DAYLIGHT
BEGIN:STANDARD
TZOFFSETFROM:-0400
TZOFFSETTO:-0500
TZNAME:EST
DTSTART:20251102T060000
END:STANDARD
END:VTIMEZONE
BEGIN:VEVENT
DTSTART;TZID=America/New_York:20250801T190000
DTEND;TZID=America/New_York:20250801T220000
DTSTAMP:20260423T043537
CREATED:20241203T230549Z
LAST-MODIFIED:20250112T164112Z
UID:509-1754074800-1754085600@allies.band
SUMMARY:Allies at Nemacolin Casino
DESCRIPTION:
URL:http://allies.band/event/allies-at-nemacolin-casino-tentative/
END:VEVENT
BEGIN:VEVENT
DTSTART;TZID=America/New_York:20250802T130000
DTEND;TZID=America/New_York:20250802T180000
DTSTAMP:20260423T043537
CREATED:20250731T033051Z
LAST-MODIFIED:20250731T112130Z
UID:565-1754139600-1754157600@allies.band
SUMMARY:Allies at Farmington Firehall
DESCRIPTION:A Back to School charity event
URL:http://allies.band/event/allies-at-farmington-firehall/
END:VEVENT
BEGIN:VEVENT
DTSTART;TZID=America/New_York:20250815T160000
DTEND;TZID=America/New_York:20250815T180000
DTSTAMP:20260423T043537
CREATED:20250123T013009Z
LAST-MODIFIED:20250809T074329Z
UID:525-1755273600-1755280800@allies.band
SUMMARY:Allies Trio @ Chess Park CANCELLED
DESCRIPTION:During Monongahela’s farmers market. We are sorry to announce that  the farmers markets  have been cancelled for the rest of the season due to ongoing construction in the park.
URL:http://allies.band/event/allies-trio-chess-park-4/
END:VEVENT
BEGIN:VEVENT
DTSTART;TZID=America/New_York:20250831T200000
DTEND;TZID=America/New_York:20250831T230000
DTSTAMP:20260423T043537
CREATED:20250318T104555Z
LAST-MODIFIED:20250318T104555Z
UID:537-1756670400-1756681200@allies.band
SUMMARY:Allies at Big Bear Lake Campground
DESCRIPTION:We’re here for the Labor Day party!!!
URL:http://allies.band/event/allies-at-big-bear-lake-campground-3/
LOCATION:Big Bear Lake Campground\, Bruceton Mills\, WV
END:VEVENT
END:VCALENDAR