BEGIN:VCALENDAR
VERSION:2.0
PRODID:-//The Allies Band - ECPv6.10.2//NONSGML v1.0//EN
CALSCALE:GREGORIAN
METHOD:PUBLISH
X-WR-CALNAME:The Allies Band
X-ORIGINAL-URL:http://allies.band
X-WR-CALDESC:Events for The Allies Band
REFRESH-INTERVAL;VALUE=DURATION:PT1H
X-Robots-Tag:noindex
X-PUBLISHED-TTL:PT1H
BEGIN:VTIMEZONE
TZID:America/New_York
BEGIN:DAYLIGHT
TZOFFSETFROM:-0500
TZOFFSETTO:-0400
TZNAME:EDT
DTSTART:20250309T070000
END:DAYLIGHT
BEGIN:STANDARD
TZOFFSETFROM:-0400
TZOFFSETTO:-0500
TZNAME:EST
DTSTART:20251102T060000
END:STANDARD
END:VTIMEZONE
BEGIN:VEVENT
DTSTART;TZID=America/New_York:20251101T180000
DTEND;TZID=America/New_York:20251101T220000
DTSTAMP:20260421T060408
CREATED:20250704T173513Z
LAST-MODIFIED:20250704T173513Z
UID:561-1762020000-1762034400@allies.band
SUMMARY:Interfaith Caregivers Dinner Dance
DESCRIPTION:The Allies Band are so happy to play every year for their largest fundraiser. Open to the public. Please consider attending or making a donation to this worthy non-profit by calling 724-438-0709.
URL:http://allies.band/event/interfaith-caregivers-dinner-dance/
LOCATION:Uniontown Country Club
END:VEVENT
BEGIN:VEVENT
DTSTART;TZID=America/New_York:20251115T200000
DTEND;TZID=America/New_York:20251115T230000
DTSTAMP:20260421T060408
CREATED:20250912T212740Z
LAST-MODIFIED:20250912T212740Z
UID:575-1763236800-1763247600@allies.band
SUMMARY:Allies @ Jessop Boat Club
DESCRIPTION:It’s been so long since we have been back to the Boat club…can’t wait.
URL:http://allies.band/event/allies-jessop-boat-club/
END:VEVENT
BEGIN:VEVENT
DTSTART;TZID=America/New_York:20251121T200000
DTEND;TZID=America/New_York:20251121T230000
DTSTAMP:20260421T060408
CREATED:20250806T111629Z
LAST-MODIFIED:20251023T012821Z
UID:567-1763755200-1763766000@allies.band
SUMMARY:Allies at The Casino At Nemacolin
DESCRIPTION:
URL:http://allies.band/event/allies-at-the-casino-at-nemacolin-5/
LOCATION:Lady Luck Casino\, Farmington\, PA
END:VEVENT
END:VCALENDAR